BEGIN:VCALENDAR
VERSION:2.0
PRODID:DPCALENDAR
CALSCALE:GREGORIAN
X-WR-TIMEZONE:UTC
BEGIN:VEVENT
DTSTART;VALUE=DATE:20251119
DTEND;VALUE=DATE:20251120
UID:6BD045F3-CE9F-4987-B180-CDFB4498D2C3
SUMMARY:Busy all day
CREATED:20251118T155837Z
DTSTAMP:20251118T155837Z
URL:https://www.english-lessons-online.co.uk/index.php/new/elfi-s-calendar/busy-all-day
LAST-MODIFIED:20251118T155837Z
SEQUENCE:0
X-ACCESS:1
X-HITS:1
X-COLOR:140307
X-SHOW-END-TIME:1
END:VEVENT
BEGIN:VEVENT
DTSTART;TZID=UTC:20251120T080000
DTEND;TZID=UTC:20251120T143000
UID:EF02D4D7-5FD6-4F0D-9D46-9F43827D7AC8
SUMMARY:busy
CREATED:20251118T155926Z
DTSTAMP:20251118T155926Z
URL:https://www.english-lessons-online.co.uk/index.php/new/elfi-s-calendar/busy
LAST-MODIFIED:20251118T155926Z
SEQUENCE:0
X-ACCESS:1
X-HITS:2
X-COLOR:fa0d11
X-SHOW-END-TIME:1
END:VEVENT
BEGIN:VEVENT
DTSTART;TZID=UTC:20251121T080000
DTEND;TZID=UTC:20251121T130000
UID:B0616988-8774-4789-93BC-99159C974C36
SUMMARY:busy
CREATED:20251118T160008Z
DTSTAMP:20251118T160008Z
URL:https://www.english-lessons-online.co.uk/index.php/new/elfi-s-calendar/busy-2
LAST-MODIFIED:20251118T160008Z
SEQUENCE:0
X-ACCESS:1
X-HITS:1
X-COLOR:fa0d11
X-SHOW-END-TIME:1
END:VEVENT
BEGIN:VEVENT
DTSTART;TZID=UTC:20251122T100000
DTEND;TZID=UTC:20251122T104500
UID:AC585986-851D-40A5-9E4B-19F7170171F4
SUMMARY:busy
CREATED:20251118T160145Z
DTSTAMP:20251118T160145Z
URL:https://www.english-lessons-online.co.uk/index.php/new/elfi-s-calendar/busy-3
LAST-MODIFIED:20251118T160145Z
SEQUENCE:0
X-ACCESS:1
X-HITS:1
X-COLOR:fa0d11
X-SHOW-END-TIME:1
END:VEVENT
BEGIN:VEVENT
DTSTART;TZID=UTC:20251128T080000
DTEND;TZID=UTC:20251207T223000
UID:60307095-4388-4CAD-B16F-36BC1A184307
SUMMARY:Away
CREATED:20251118T160238Z
DTSTAMP:20251118T160238Z
URL:https://www.english-lessons-online.co.uk/index.php/new/elfi-s-calendar/away
LAST-MODIFIED:20251118T160238Z
SEQUENCE:0
X-ACCESS:1
X-HITS:1
X-COLOR:fa0d11
X-SHOW-END-TIME:1
END:VEVENT
BEGIN:VEVENT
DTSTART;TZID=UTC:20251211T140000
DTEND;TZID=UTC:20251211T144500
UID:061510C9-6116-4550-AC1B-7D706376E319
SUMMARY:Lesson 1
CREATED:20251211T102311Z
DTSTAMP:20251211T102311Z
URL:https://www.english-lessons-online.co.uk/index.php/new/elfi-s-calendar/lesson-1
LAST-MODIFIED:20251211T102311Z
SEQUENCE:0
X-ACCESS:1
X-HITS:1
X-COLOR:fa0d11
X-SHOW-END-TIME:1
END:VEVENT
BEGIN:VEVENT
DTSTART;TZID=UTC:20251212T183000
DTEND;TZID=UTC:20251212T191500
UID:4A09DBEA-DAD6-4D85-AD96-343792D97FC8
SUMMARY:Lesson 2
CREATED:20251211T140440Z
DTSTAMP:20251211T140440Z
URL:https://www.english-lessons-online.co.uk/index.php/new/elfi-s-calendar/lesson-2
LAST-MODIFIED:20251211T140440Z
SEQUENCE:0
X-ACCESS:1
X-HITS:1
X-COLOR:fa0d11
X-SHOW-END-TIME:1
END:VEVENT
END:VCALENDAR